Package: msgbsR Version: 1.30.0 Command: /home/biocbuild/R/R/bin/R CMD build --keep-empty-dirs --no-resave-data msgbsR StartedAt: 2025-01-31 01:09:50 -0000 (Fri, 31 Jan 2025) EndedAt: 2025-01-31 01:11:39 -0000 (Fri, 31 Jan 2025) EllapsedTime: 109.0 seconds RetCode: 0 Status: OK PackageFile: msgbsR_1.30.0.tar.gz PackageFileSize: 15.25 MiB