Package: msgbsR Version: 1.30.0 Command: rm -rf msgbsR.buildbin-libdir && mkdir msgbsR.buildbin-libdir && /Users/biocbuild/BBS/utils/build-universal.sh msgbsR_1.30.0.tar.gz /Library/Frameworks/R.framework/Resources/bin/R msgbsR.buildbin-libdir StartedAt: 2025-02-01 15:53:07 -0500 (Sat, 01 Feb 2025) EndedAt: 2025-02-01 15:54:22 -0500 (Sat, 01 Feb 2025) EllapsedTime: 74.6 seconds RetCode: 0 Status: OK PackageFile: msgbsR_1.30.0.tgz PackageFileSize: 15.29 MiB