Package: msPurity Version: 1.32.0 Command: /home/biocbuild/R/R/bin/R CMD build --keep-empty-dirs --no-resave-data msPurity StartedAt: 2025-01-28 01:48:34 -0000 (Tue, 28 Jan 2025) EndedAt: 2025-01-28 02:00:03 -0000 (Tue, 28 Jan 2025) EllapsedTime: 689.3 seconds RetCode: 0 Status: OK PackageFile: msPurity_1.32.0.tar.gz PackageFileSize: 11.48 MiB