Package: msPurity Version: 1.32.0 Command: chmod a+r msPurity -R && F:\biocbuild\bbs-3.20-bioc\R\bin\R.exe CMD build --keep-empty-dirs --no-resave-data msPurity StartedAt: 2025-03-31 20:24:39 -0400 (Mon, 31 Mar 2025) EndedAt: 2025-03-31 20:36:27 -0400 (Mon, 31 Mar 2025) EllapsedTime: 708.2 seconds RetCode: 0 Status: OK PackageFile: msPurity_1.32.0.tar.gz PackageFileSize: 11.28 MiB