Package: msPurity Version: 1.32.0 Command: /home/biocbuild/bbs-3.20-bioc/R/bin/R CMD INSTALL msPurity StartedAt: 2025-01-27 16:09:46 -0500 (Mon, 27 Jan 2025) EndedAt: 2025-01-27 16:09:58 -0500 (Mon, 27 Jan 2025) EllapsedTime: 11.3 seconds RetCode: 0 Status: OK