Package: msPurity Version: 1.32.0 Command: /Library/Frameworks/R.framework/Resources/bin/R CMD INSTALL msPurity StartedAt: 2025-03-31 15:27:03 -0400 (Mon, 31 Mar 2025) EndedAt: 2025-03-31 15:27:32 -0400 (Mon, 31 Mar 2025) EllapsedTime: 28.6 seconds RetCode: 0 Status: OK