Package: msImpute Version: 1.16.0 Command: /home/biocbuild/R/R/bin/R CMD build --keep-empty-dirs --no-resave-data msImpute StartedAt: 2025-01-28 01:47:26 -0000 (Tue, 28 Jan 2025) EndedAt: 2025-01-28 01:48:49 -0000 (Tue, 28 Jan 2025) EllapsedTime: 83.0 seconds RetCode: 0 Status: OK PackageFile: msImpute_1.16.0.tar.gz PackageFileSize: 1.674 MiB