Package: msImpute Version: 1.16.0 Command: chmod a+r msImpute -R && F:\biocbuild\bbs-3.20-bioc\R\bin\R.exe CMD build --keep-empty-dirs --no-resave-data msImpute StartedAt: 2025-03-31 20:23:51 -0400 (Mon, 31 Mar 2025) EndedAt: 2025-03-31 20:25:36 -0400 (Mon, 31 Mar 2025) EllapsedTime: 105.1 seconds RetCode: 0 Status: OK PackageFile: msImpute_1.16.0.tar.gz PackageFileSize: 1.602 MiB