Package: mpra Version: 1.28.0 Command: /home/biocbuild/bbs-3.20-bioc/R/bin/R CMD build --keep-empty-dirs --no-resave-data --md5 mpra StartedAt: 2025-01-30 18:11:59 -0500 (Thu, 30 Jan 2025) EndedAt: 2025-01-30 18:12:46 -0500 (Thu, 30 Jan 2025) EllapsedTime: 47.0 seconds RetCode: 0 Status: OK PackageFile: mpra_1.28.0.tar.gz PackageFileSize: 3.08 MiB