Package: motifmatchr Version: 1.28.0 Command: rm -rf motifmatchr.buildbin-libdir && mkdir motifmatchr.buildbin-libdir && /Users/biocbuild/BBS/utils/build-universal.sh motifmatchr_1.28.0.tar.gz /Library/Frameworks/R.framework/Resources/bin/R motifmatchr.buildbin-libdir StartedAt: 2025-01-28 13:47:06 -0500 (Tue, 28 Jan 2025) EndedAt: 2025-01-28 13:51:25 -0500 (Tue, 28 Jan 2025) EllapsedTime: 259.9 seconds RetCode: 0 Status: OK PackageFile: motifmatchr_1.28.0.tgz PackageFileSize: 197.4 KiB