Package: motifmatchr Version: 1.28.0 Maintainer: Alicia Schep MaintainerEmail: aschep at gmail.com git_url: https://git.bioconductor.org/packages/motifmatchr git_branch: RELEASE_3_20 git_last_commit: 96b6c79 git_last_commit_date: 2024-10-29 10:19:51 -0500 (Tue, 29 Oct 2024)