Package: motifcounter Version: 1.30.0 Command: /home/biocbuild/R/R/bin/R CMD check --install=check:motifcounter.install-out.txt --library=/home/biocbuild/R/R/site-library --no-vignettes --timings motifcounter_1.30.0.tar.gz StartedAt: 2025-01-31 08:18:50 -0000 (Fri, 31 Jan 2025) EndedAt: 2025-01-31 08:22:39 -0000 (Fri, 31 Jan 2025) EllapsedTime: 228.3 seconds RetCode: 1 Status: ERROR CheckDir: motifcounter.Rcheck Warnings: NA