Package: motifcounter Version: 1.30.0 Command: /Library/Frameworks/R.framework/Resources/bin/R CMD build --keep-empty-dirs --no-resave-data motifcounter StartedAt: 2025-01-27 20:45:13 -0500 (Mon, 27 Jan 2025) EndedAt: 2025-01-27 20:48:07 -0500 (Mon, 27 Jan 2025) EllapsedTime: 174.9 seconds RetCode: 0 Status: OK PackageFile: motifcounter_1.30.0.tar.gz PackageFileSize: 611.1 KiB