Package: motifbreakR Version: 2.20.0 Command: F:\biocbuild\bbs-3.20-bioc\R\bin\R.exe CMD check --no-multiarch --install=check:motifbreakR.install-out.txt --library=F:\biocbuild\bbs-3.20-bioc\R\library --no-vignettes --timings motifbreakR_2.20.0.tar.gz StartedAt: 2025-02-04 03:58:28 -0500 (Tue, 04 Feb 2025) EndedAt: 2025-02-04 04:13:02 -0500 (Tue, 04 Feb 2025) EllapsedTime: 874.3 seconds RetCode: 0 Status: WARNINGS CheckDir: motifbreakR.Rcheck Warnings: 2