Package: motifbreakR Version: 2.20.0 Command: chmod a+r motifbreakR -R && F:\biocbuild\bbs-3.20-bioc\R\bin\R.exe CMD build --keep-empty-dirs --no-resave-data motifbreakR StartedAt: 2025-01-30 20:18:10 -0500 (Thu, 30 Jan 2025) EndedAt: 2025-01-30 20:31:03 -0500 (Thu, 30 Jan 2025) EllapsedTime: 773.3 seconds RetCode: 0 Status: OK PackageFile: motifbreakR_2.20.0.tar.gz PackageFileSize: 2.046 MiB