Package: motifbreakR Version: 2.20.0 Command: rm -rf motifbreakR.buildbin-libdir && mkdir motifbreakR.buildbin-libdir && F:\biocbuild\bbs-3.20-bioc\R\bin\R.exe CMD INSTALL --build --library=motifbreakR.buildbin-libdir motifbreakR_2.20.0.tar.gz StartedAt: 2025-02-04 08:58:51 -0500 (Tue, 04 Feb 2025) EndedAt: 2025-02-04 09:00:13 -0500 (Tue, 04 Feb 2025) EllapsedTime: 82.1 seconds RetCode: 0 Status: OK PackageFile: motifbreakR_2.20.0.zip PackageFileSize: 2.007 MiB