Package: motifbreakR Version: 2.20.0 Command: /home/biocbuild/bbs-3.20-bioc/R/bin/R CMD INSTALL motifbreakR StartedAt: 2025-01-27 16:31:27 -0500 (Mon, 27 Jan 2025) EndedAt: 2025-01-27 16:32:58 -0500 (Mon, 27 Jan 2025) EllapsedTime: 91.3 seconds RetCode: 0 Status: OK