Package: motifbreakR Version: 2.20.0 Command: /Library/Frameworks/R.framework/Resources/bin/R CMD build --keep-empty-dirs --no-resave-data motifbreakR StartedAt: 2025-03-31 20:16:50 -0400 (Mon, 31 Mar 2025) EndedAt: 2025-03-31 20:33:12 -0400 (Mon, 31 Mar 2025) EllapsedTime: 981.8 seconds RetCode: 0 Status: OK PackageFile: motifbreakR_2.20.0.tar.gz PackageFileSize: 2.489 MiB