Package: motifTestR Version: 1.2.1 Command: /home/biocbuild/R/R/bin/R CMD check --install=check:motifTestR.install-out.txt --library=/home/biocbuild/R/R/site-library --no-vignettes --timings motifTestR_1.2.1.tar.gz StartedAt: 2025-01-28 09:09:34 -0000 (Tue, 28 Jan 2025) EndedAt: 2025-01-28 09:12:52 -0000 (Tue, 28 Jan 2025) EllapsedTime: 198.2 seconds RetCode: 0 Status: OK CheckDir: motifTestR.Rcheck Warnings: 0