Package: motifTestR Version: 1.2.1 Command: /Library/Frameworks/R.framework/Resources/bin/R CMD INSTALL motifTestR StartedAt: 2025-03-31 15:18:43 -0400 (Mon, 31 Mar 2025) EndedAt: 2025-03-31 15:19:14 -0400 (Mon, 31 Mar 2025) EllapsedTime: 31.4 seconds RetCode: 0 Status: OK