Package: mosdef Version: 1.2.0 Command: /home/biocbuild/R/R/bin/R CMD build --keep-empty-dirs --no-resave-data mosdef StartedAt: 2025-01-28 01:42:39 -0000 (Tue, 28 Jan 2025) EndedAt: 2025-01-28 01:49:25 -0000 (Tue, 28 Jan 2025) EllapsedTime: 406.1 seconds RetCode: 0 Status: OK PackageFile: mosdef_1.2.0.tar.gz PackageFileSize: 3.554 MiB