Package: mosdef Version: 1.2.0 Command: chmod a+r mosdef -R && F:\biocbuild\bbs-3.20-bioc\R\bin\R.exe CMD build --keep-empty-dirs --no-resave-data mosdef StartedAt: 2025-01-27 20:18:50 -0500 (Mon, 27 Jan 2025) EndedAt: 2025-01-27 20:36:42 -0500 (Mon, 27 Jan 2025) EllapsedTime: 1071.3 seconds RetCode: 0 Status: OK PackageFile: mosdef_1.2.0.tar.gz PackageFileSize: 3.518 MiB