Package: mosdef Version: 1.2.0 Command: rm -rf mosdef.buildbin-libdir && mkdir mosdef.buildbin-libdir && F:\biocbuild\bbs-3.20-bioc\R\bin\R.exe CMD INSTALL --build --library=mosdef.buildbin-libdir mosdef_1.2.0.tar.gz StartedAt: 2025-01-28 08:36:56 -0500 (Tue, 28 Jan 2025) EndedAt: 2025-01-28 08:37:51 -0500 (Tue, 28 Jan 2025) EllapsedTime: 55.5 seconds RetCode: 0 Status: OK PackageFile: mosdef_1.2.0.zip PackageFileSize: 3.619 MiB