Package: mosdef Version: 1.2.0 Command: /home/biocbuild/bbs-3.20-bioc/R/bin/R CMD INSTALL mosdef StartedAt: 2025-02-03 15:52:41 -0500 (Mon, 03 Feb 2025) EndedAt: 2025-02-03 15:53:31 -0500 (Mon, 03 Feb 2025) EllapsedTime: 49.8 seconds RetCode: 0 Status: OK