Package: mosdef Version: 1.2.0 Command: /Library/Frameworks/R.framework/Resources/bin/R CMD check --install=check:mosdef.install-out.txt --library=/Library/Frameworks/R.framework/Resources/library --no-vignettes --timings mosdef_1.2.0.tar.gz StartedAt: 2025-02-04 06:39:47 -0500 (Tue, 04 Feb 2025) EndedAt: 2025-02-04 07:02:08 -0500 (Tue, 04 Feb 2025) EllapsedTime: 1340.4 seconds RetCode: 0 Status: OK CheckDir: mosdef.Rcheck Warnings: 0