Package: mosdef Version: 1.2.0 Command: /Library/Frameworks/R.framework/Resources/bin/R CMD build --keep-empty-dirs --no-resave-data mosdef StartedAt: 2025-01-27 20:42:02 -0500 (Mon, 27 Jan 2025) EndedAt: 2025-01-27 20:57:16 -0500 (Mon, 27 Jan 2025) EllapsedTime: 914.9 seconds RetCode: 0 Status: OK PackageFile: mosdef_1.2.0.tar.gz PackageFileSize: 4.551 MiB