Package: mosbi Version: 1.12.0 Command: /home/biocbuild/R/R/bin/R CMD INSTALL mosbi StartedAt: 2025-02-03 21:14:51 -0000 (Mon, 03 Feb 2025) EndedAt: 2025-02-03 21:16:39 -0000 (Mon, 03 Feb 2025) EllapsedTime: 107.8 seconds RetCode: 0 Status: OK