Package: mosbi Version: 1.12.0 Command: rm -rf mosbi.buildbin-libdir && mkdir mosbi.buildbin-libdir && F:\biocbuild\bbs-3.20-bioc\R\bin\R.exe CMD INSTALL --build --library=mosbi.buildbin-libdir mosbi_1.12.0.tar.gz StartedAt: 2025-04-01 08:39:57 -0400 (Tue, 01 Apr 2025) EndedAt: 2025-04-01 08:42:54 -0400 (Tue, 01 Apr 2025) EllapsedTime: 176.9 seconds RetCode: 0 Status: OK PackageFile: mosbi_1.12.0.zip PackageFileSize: 1.812 MiB