Package: mosaics Version: 2.44.0 Command: F:\biocbuild\bbs-3.20-bioc\R\bin\R.exe CMD INSTALL mosaics StartedAt: 2025-03-31 15:55:19 -0400 (Mon, 31 Mar 2025) EndedAt: 2025-03-31 15:56:39 -0400 (Mon, 31 Mar 2025) EllapsedTime: 80.7 seconds RetCode: 0 Status: OK