Package: mosaics Version: 2.44.0 Command: /Library/Frameworks/R.framework/Resources/bin/R CMD build --keep-empty-dirs --no-resave-data mosaics StartedAt: 2025-03-31 20:13:26 -0400 (Mon, 31 Mar 2025) EndedAt: 2025-03-31 20:20:40 -0400 (Mon, 31 Mar 2025) EllapsedTime: 434.0 seconds RetCode: 0 Status: OK PackageFile: mosaics_2.44.0.tar.gz PackageFileSize: 2.043 MiB