Package: mosaics Version: 2.44.0 Command: rm -rf mosaics.buildbin-libdir && mkdir mosaics.buildbin-libdir && /Users/biocbuild/BBS/utils/build-universal.sh mosaics_2.44.0.tar.gz /Library/Frameworks/R.framework/Resources/bin/R mosaics.buildbin-libdir StartedAt: 2025-04-02 15:15:38 -0400 (Wed, 02 Apr 2025) EndedAt: 2025-04-02 15:16:34 -0400 (Wed, 02 Apr 2025) EllapsedTime: 55.9 seconds RetCode: 0 Status: OK PackageFile: mosaics_2.44.0.tgz PackageFileSize: 1.835 MiB