Package: monocle Version: 2.34.0 Command: F:\biocbuild\bbs-3.20-bioc\R\bin\R.exe CMD check --no-multiarch --install=check:monocle.install-out.txt --library=F:\biocbuild\bbs-3.20-bioc\R\library --no-vignettes --timings monocle_2.34.0.tar.gz StartedAt: 2025-04-01 03:38:39 -0400 (Tue, 01 Apr 2025) EndedAt: 2025-04-01 03:40:56 -0400 (Tue, 01 Apr 2025) EllapsedTime: 137.3 seconds RetCode: 0 Status: OK CheckDir: monocle.Rcheck Warnings: 0