Package: monocle Version: 2.34.0 Command: /home/biocbuild/bbs-3.20-bioc/R/bin/R CMD INSTALL monocle StartedAt: 2025-03-31 15:14:07 -0400 (Mon, 31 Mar 2025) EndedAt: 2025-03-31 15:14:27 -0400 (Mon, 31 Mar 2025) EllapsedTime: 19.4 seconds RetCode: 0 Status: OK