Package: monocle Version: 2.34.0 Command: /Library/Frameworks/R.framework/Resources/bin/R CMD INSTALL monocle StartedAt: 2025-01-27 15:17:35 -0500 (Mon, 27 Jan 2025) EndedAt: 2025-01-27 15:18:20 -0500 (Mon, 27 Jan 2025) EllapsedTime: 45.4 seconds RetCode: 0 Status: OK