Package: monocle Version: 2.34.0 Command: /Library/Frameworks/R.framework/Resources/bin/R CMD check --install=check:monocle.install-out.txt --library=/Library/Frameworks/R.framework/Resources/library --no-vignettes --timings monocle_2.34.0.tar.gz StartedAt: 2025-01-28 06:50:48 -0500 (Tue, 28 Jan 2025) EndedAt: 2025-01-28 06:54:09 -0500 (Tue, 28 Jan 2025) EllapsedTime: 200.9 seconds RetCode: 0 Status: OK CheckDir: monocle.Rcheck Warnings: 0