Package: monocle Version: 2.34.0 Command: /Library/Frameworks/R.framework/Resources/bin/R CMD build --keep-empty-dirs --no-resave-data monocle StartedAt: 2025-03-31 20:12:28 -0400 (Mon, 31 Mar 2025) EndedAt: 2025-03-31 20:13:41 -0400 (Mon, 31 Mar 2025) EllapsedTime: 72.7 seconds RetCode: 0 Status: OK PackageFile: monocle_2.34.0.tar.gz PackageFileSize: 9.006 MiB