Package: monocle Version: 2.34.0 Command: rm -rf monocle.buildbin-libdir && mkdir monocle.buildbin-libdir && /Users/biocbuild/BBS/utils/build-universal.sh monocle_2.34.0.tar.gz /Library/Frameworks/R.framework/Resources/bin/R monocle.buildbin-libdir StartedAt: 2025-01-28 13:46:00 -0500 (Tue, 28 Jan 2025) EndedAt: 2025-01-28 13:47:49 -0500 (Tue, 28 Jan 2025) EllapsedTime: 109.1 seconds RetCode: 0 Status: OK PackageFile: monocle_2.34.0.tgz PackageFileSize: 1.436 MiB