Package: monaLisa Version: 1.12.0 Command: /home/biocbuild/R/R/bin/R CMD INSTALL monaLisa StartedAt: 2025-01-30 20:54:39 -0000 (Thu, 30 Jan 2025) EndedAt: 2025-01-30 20:55:35 -0000 (Thu, 30 Jan 2025) EllapsedTime: 55.6 seconds RetCode: 0 Status: OK