Package: monaLisa Version: 1.12.0 Command: /home/biocbuild/bbs-3.20-bioc/R/bin/R CMD INSTALL monaLisa StartedAt: 2025-03-31 15:48:24 -0400 (Mon, 31 Mar 2025) EndedAt: 2025-03-31 15:49:07 -0400 (Mon, 31 Mar 2025) EllapsedTime: 42.9 seconds RetCode: 0 Status: OK