Package: monaLisa Version: 1.12.0 Command: /Library/Frameworks/R.framework/Resources/bin/R CMD build --keep-empty-dirs --no-resave-data monaLisa StartedAt: 2025-03-31 20:12:13 -0400 (Mon, 31 Mar 2025) EndedAt: 2025-03-31 20:23:02 -0400 (Mon, 31 Mar 2025) EllapsedTime: 648.5 seconds RetCode: 0 Status: OK PackageFile: monaLisa_1.12.0.tar.gz PackageFileSize: 6.095 MiB