Package: monaLisa Version: 1.12.0 Command: rm -rf monaLisa.buildbin-libdir && mkdir monaLisa.buildbin-libdir && /Users/biocbuild/BBS/utils/build-universal.sh monaLisa_1.12.0.tar.gz /Library/Frameworks/R.framework/Resources/bin/R monaLisa.buildbin-libdir StartedAt: 2024-11-09 16:59:44 -0500 (Sat, 09 Nov 2024) EndedAt: 2024-11-09 17:00:04 -0500 (Sat, 09 Nov 2024) EllapsedTime: 20.3 seconds RetCode: 0 Status: OK PackageFile: monaLisa_1.12.0.tgz PackageFileSize: 6.269 MiB