Package: mogsa Version: 1.40.0 Command: F:\biocbuild\bbs-3.20-bioc\R\bin\R.exe CMD check --no-multiarch --install=check:mogsa.install-out.txt --library=F:\biocbuild\bbs-3.20-bioc\R\library --no-vignettes --timings mogsa_1.40.0.tar.gz StartedAt: 2025-01-28 03:38:27 -0500 (Tue, 28 Jan 2025) EndedAt: 2025-01-28 03:41:22 -0500 (Tue, 28 Jan 2025) EllapsedTime: 174.4 seconds RetCode: 0 Status: OK CheckDir: mogsa.Rcheck Warnings: 0