Package: mobileRNA Version: 1.2.0 Command: rm -rf mobileRNA.buildbin-libdir && mkdir mobileRNA.buildbin-libdir && /Users/biocbuild/BBS/utils/build-universal.sh mobileRNA_1.2.0.tar.gz /Library/Frameworks/R.framework/Resources/bin/R mobileRNA.buildbin-libdir StartedAt: 2025-02-01 15:47:47 -0500 (Sat, 01 Feb 2025) EndedAt: 2025-02-01 15:48:35 -0500 (Sat, 01 Feb 2025) EllapsedTime: 47.7 seconds RetCode: 0 Status: OK PackageFile: mobileRNA_1.2.0.tgz PackageFileSize: 3.358 MiB