Package: moanin Version: 1.14.0 Command: F:\biocbuild\bbs-3.20-bioc\R\bin\R.exe CMD INSTALL moanin StartedAt: 2025-01-27 16:28:06 -0500 (Mon, 27 Jan 2025) EndedAt: 2025-01-27 16:29:01 -0500 (Mon, 27 Jan 2025) EllapsedTime: 55.6 seconds RetCode: 0 Status: OK