Package: moanin Version: 1.14.0 Command: chmod a+r moanin -R && F:\biocbuild\bbs-3.20-bioc\R\bin\R.exe CMD build --keep-empty-dirs --no-resave-data moanin StartedAt: 2025-01-27 20:14:57 -0500 (Mon, 27 Jan 2025) EndedAt: 2025-01-27 20:16:38 -0500 (Mon, 27 Jan 2025) EllapsedTime: 100.1 seconds RetCode: 0 Status: OK PackageFile: moanin_1.14.0.tar.gz PackageFileSize: 477.5 KiB