Package: moanin Version: 1.14.0 Command: /home/biocbuild/bbs-3.20-bioc/R/bin/R CMD check --install=check:moanin.install-out.txt --library=/home/biocbuild/bbs-3.20-bioc/R/site-library --timings moanin_1.14.0.tar.gz StartedAt: 2025-01-28 01:00:45 -0500 (Tue, 28 Jan 2025) EndedAt: 2025-01-28 01:05:57 -0500 (Tue, 28 Jan 2025) EllapsedTime: 312.3 seconds RetCode: 0 Status: OK CheckDir: moanin.Rcheck Warnings: 0