Package: moanin Version: 1.14.0 Command: /Library/Frameworks/R.framework/Resources/bin/R CMD build --keep-empty-dirs --no-resave-data moanin StartedAt: 2025-02-04 03:48:41 -0500 (Tue, 04 Feb 2025) EndedAt: 2025-02-04 03:50:23 -0500 (Tue, 04 Feb 2025) EllapsedTime: 102.5 seconds RetCode: 0 Status: OK PackageFile: moanin_1.14.0.tar.gz PackageFileSize: 555.6 KiB