Package: moanin Version: 1.14.0 Command: rm -rf moanin.buildbin-libdir && mkdir moanin.buildbin-libdir && /Users/biocbuild/BBS/utils/build-universal.sh moanin_1.14.0.tar.gz /Library/Frameworks/R.framework/Resources/bin/R moanin.buildbin-libdir StartedAt: 2025-02-05 16:43:16 -0500 (Wed, 05 Feb 2025) EndedAt: 2025-02-05 16:44:00 -0500 (Wed, 05 Feb 2025) EllapsedTime: 43.6 seconds RetCode: 0 Status: OK PackageFile: moanin_1.14.0.tgz PackageFileSize: 998.2 KiB