Package: mnem Version: 1.22.0 Command: F:\biocbuild\bbs-3.20-bioc\R\bin\R.exe CMD INSTALL mnem StartedAt: 2025-01-27 16:51:15 -0500 (Mon, 27 Jan 2025) EndedAt: 2025-01-27 16:51:58 -0500 (Mon, 27 Jan 2025) EllapsedTime: 43.1 seconds RetCode: 0 Status: OK