Package: mitoClone2 Version: 1.12.0 Command: /home/biocbuild/R/R/bin/R CMD build --keep-empty-dirs --no-resave-data mitoClone2 StartedAt: 2025-01-31 00:58:50 -0000 (Fri, 31 Jan 2025) EndedAt: 2025-01-31 01:04:45 -0000 (Fri, 31 Jan 2025) EllapsedTime: 355.2 seconds RetCode: 0 Status: OK PackageFile: mitoClone2_1.12.0.tar.gz PackageFileSize: 1.266 MiB